BEGIN:VCALENDAR
VERSION:2.0
PRODID:-//Northern Ireland Weightlifting - ECPv6.15.17.1//NONSGML v1.0//EN
CALSCALE:GREGORIAN
METHOD:PUBLISH
X-ORIGINAL-URL:https://niweightlifting.com
X-WR-CALDESC:Events for Northern Ireland Weightlifting
REFRESH-INTERVAL;VALUE=DURATION:PT1H
X-Robots-Tag:noindex
X-PUBLISHED-TTL:PT1H
BEGIN:VTIMEZONE
TZID:UTC
BEGIN:STANDARD
TZOFFSETFROM:+0000
TZOFFSETTO:+0000
TZNAME:UTC
DTSTART:20240101T000000
END:STANDARD
END:VTIMEZONE
BEGIN:VEVENT
DTSTART;VALUE=DATE:20250412
DTEND;VALUE=DATE:20250413
DTSTAMP:20260424T113524
CREATED:20250412T100053Z
LAST-MODIFIED:20250408T085308Z
UID:1708-1744416000-1744502399@niweightlifting.com
SUMMARY:Limavady Open Start List
DESCRIPTION:Limavady Open Start List
URL:https://niweightlifting.com/event/limavady-open-start-list/
CATEGORIES:Senior,Youth
END:VEVENT
END:VCALENDAR